BEGIN:VCALENDAR
VERSION:2.0
PRODID:Imitheme.com 
BEGIN:VEVENT
UID:20260425T1401151746570832
DTSTAMP;TZID=UTC:20260425T140115
DTSTART;TZID=UTC:20260425T140115
DTEND;TZID=UTC:20260425T140115
SUMMARY:Art of Jazz festival
LOCATION:
DESCRIPTION:Art of Jazz welcomes you for an exciting season of new sounds in jazz\,  featuring Juma Tutu’s Swahili Jazz Band performing live\, bringing  deeply rooted musical Afro Jazz influences from the continent and  beyond. Art of Jazz is scheduled for Sunday 5th March\, 2017 from  12noon - 7\:00pm at Galleria Shopping Mall. This is an event produced and organized by 24\:7 Entertainment  every first Sunday of every month. We are pleased to continue the  collaboration with the good people in programming and presenting the  Art of Jazz Series. We are grateful to our partners for their support  towards the Art of Jazz series.
END:VEVENT
END:VCALENDAR
