BEGIN:VCALENDAR
VERSION:2.0
PRODID:Imitheme.com 
BEGIN:VEVENT
UID:20260425T1529391066763806
DTSTAMP;TZID=UTC:20260425T152939
DTSTART;TZID=UTC:20260425T152939
DTEND;TZID=UTC:20260425T152939
SUMMARY:Endaweni Lifestyle birthday celebration
LOCATION:
DESCRIPTION:No doubt zizobe zikhipha la. This event will also be used to officially launch the smash Hit by Dj LeSoul ft Bhizer (Gobisiqolo) and Trigger (Iscefe). The song is available on all major digital stores\, including iTunes &amp\; Google Play Music. Sohlangana khona!
END:VEVENT
END:VCALENDAR
